BEGIN:VCALENDAR
VERSION:2.0
PRODID:-//Goa Culture List - ECPv6.5.1.6//NONSGML v1.0//EN
CALSCALE:GREGORIAN
METHOD:PUBLISH
X-ORIGINAL-URL:https://www.goaculturelist.ca
X-WR-CALDESC:Events for Goa Culture List
REFRESH-INTERVAL;VALUE=DURATION:PT1H
X-Robots-Tag:noindex
X-PUBLISHED-TTL:PT1H
BEGIN:VTIMEZONE
TZID:America/Toronto
BEGIN:DAYLIGHT
TZOFFSETFROM:-0500
TZOFFSETTO:-0400
TZNAME:EDT
DTSTART:20240310T070000
END:DAYLIGHT
BEGIN:STANDARD
TZOFFSETFROM:-0400
TZOFFSETTO:-0500
TZNAME:EST
DTSTART:20241103T060000
END:STANDARD
END:VTIMEZONE
BEGIN:VEVENT
DTSTART;TZID=America/Toronto:20240714T110000
DTEND;TZID=America/Toronto:20240714T210000
DTSTAMP:20260423T044526
CREATED:20240712T035703Z
LAST-MODIFIED:20240712T070553Z
UID:3411-1720954800-1720990800@www.goaculturelist.ca
SUMMARY:GGAC - Summer Fiesta 2024
DESCRIPTION:Global Goan Association Canada (GGAC) presents:\nSummer Fiesta 2024 \nFEATURING:\n— Jazz Junction and Guests\n— A26\n— BigFoot Band\n— The Achante Collective\n— MackD \nFood\, Feni\, Cultural Experiences\, and More… \nDATE and TIME:\nJuly 13th 2024.\n11:00 am to 9:00 pm \nLocation:\nPort Credit Memorial Park\nMississauga\, Ontario \nCOST:\n15:00 – 20:00 Early Bird Online \nTICKET LINK:\nAdvance Tickets Required. CLICK to purchase online
URL:https://www.goaculturelist.ca/events/ggac-night-at-the-movies-musical-event-2/
LOCATION:Port Credit Memorial Park\, 40 Lakeshore Rd East (at the Credit River)\, Mississauga\, Ontario\, L5G 1S4\, Canada
CATEGORIES:Festival,Food and Vendors,Music
ATTACH;FMTTYPE=image/jpeg:https://www.goaculturelist.ca/wp-content/uploads/2024/07/449067860_122113930670331502_3275001889640576765_nv2-1.jpg
ORGANIZER;CN="Global Goan Association Canada - GGAC":MAILTO:goansglobal@gmail.com
END:VEVENT
END:VCALENDAR